BEGIN:VCALENDAR
VERSION:2.0
PRODID:-//Kleingartenverein - ECPv6.15.20//NONSGML v1.0//EN
CALSCALE:GREGORIAN
METHOD:PUBLISH
X-ORIGINAL-URL:https://westhovener-aue.de
X-WR-CALDESC:Veranstaltungen für Kleingartenverein
REFRESH-INTERVAL;VALUE=DURATION:PT1H
X-Robots-Tag:noindex
X-PUBLISHED-TTL:PT1H
BEGIN:VTIMEZONE
TZID:UTC
BEGIN:STANDARD
TZOFFSETFROM:+0000
TZOFFSETTO:+0000
TZNAME:UTC
DTSTART:20250101T000000
END:STANDARD
END:VTIMEZONE
BEGIN:VEVENT
DTSTART;TZID=UTC:20260627T090000
DTEND;TZID=UTC:20260627T130000
DTSTAMP:20260425T200952
CREATED:20260301T145339Z
LAST-MODIFIED:20260301T145339Z
UID:654-1782550800-1782565200@westhovener-aue.de
SUMMARY:Gemeinschaftsarbeit Gruppe 6
DESCRIPTION:127\, 141\, 144\, 145\, 148\, 149\,153\, 156\, 158\, 118\, 185
URL:https://westhovener-aue.de/event/gemeinschaftsarbeit-gruppe-6-2
END:VEVENT
END:VCALENDAR