BEGIN:VCALENDAR
VERSION:2.0
PRODID:-//Kleingartenverein - ECPv6.15.20//NONSGML v1.0//EN
CALSCALE:GREGORIAN
METHOD:PUBLISH
X-ORIGINAL-URL:https://westhovener-aue.de
X-WR-CALDESC:Veranstaltungen für Kleingartenverein
REFRESH-INTERVAL;VALUE=DURATION:PT1H
X-Robots-Tag:noindex
X-PUBLISHED-TTL:PT1H
BEGIN:VTIMEZONE
TZID:UTC
BEGIN:STANDARD
TZOFFSETFROM:+0000
TZOFFSETTO:+0000
TZNAME:UTC
DTSTART:20240101T000000
END:STANDARD
END:VTIMEZONE
BEGIN:VEVENT
DTSTART;TZID=UTC:20250920T090000
DTEND;TZID=UTC:20250920T130000
DTSTAMP:20260426T035155
CREATED:20250114T182000Z
LAST-MODIFIED:20250403T134839Z
UID:319-1758358800-1758373200@westhovener-aue.de
SUMMARY:Gemeinschaftsarbeit (Gruppe 8)
DESCRIPTION:87\, 88\, 90\, 91\, 92\, 93\, 94\, 95\, 96\, 137\, 186\, 187
URL:https://westhovener-aue.de/event/gemeinschaftsarbeit-gruppe-8
CATEGORIES:Gemeinschaftsarbeit
END:VEVENT
BEGIN:VEVENT
DTSTART;TZID=UTC:20250927T080000
DTEND;TZID=UTC:20250927T220000
DTSTAMP:20260426T035155
CREATED:20241227T121407Z
LAST-MODIFIED:20241227T121640Z
UID:172-1758960000-1759010400@westhovener-aue.de
SUMMARY:Oktoberfest
DESCRIPTION:
URL:https://westhovener-aue.de/event/oktoberfest
LOCATION:Vereinsheim
END:VEVENT
END:VCALENDAR