BEGIN:VCALENDAR
VERSION:2.0
PRODID:-//Kleingartenverein - ECPv6.15.20//NONSGML v1.0//EN
CALSCALE:GREGORIAN
METHOD:PUBLISH
X-ORIGINAL-URL:https://westhovener-aue.de
X-WR-CALDESC:Veranstaltungen für Kleingartenverein
REFRESH-INTERVAL;VALUE=DURATION:PT1H
X-Robots-Tag:noindex
X-PUBLISHED-TTL:PT1H
BEGIN:VTIMEZONE
TZID:UTC
BEGIN:STANDARD
TZOFFSETFROM:+0000
TZOFFSETTO:+0000
TZNAME:UTC
DTSTART:20250101T000000
END:STANDARD
END:VTIMEZONE
BEGIN:VEVENT
DTSTART;TZID=UTC:20260815T090000
DTEND;TZID=UTC:20260815T140000
DTSTAMP:20260426T022626
CREATED:20260301T145557Z
LAST-MODIFIED:20260301T145557Z
UID:658-1786784400-1786802400@westhovener-aue.de
SUMMARY:Gemeinschaftsarbeit Gruppe 8
DESCRIPTION:87\,88\, 90\, 91\, 92\, 93\, 94\, 95\,96\, 137\, 186\, 187\,
URL:https://westhovener-aue.de/event/gemeinschaftsarbeit-gruppe-8-2
END:VEVENT
END:VCALENDAR