BEGIN:VCALENDAR
VERSION:2.0
PRODID:-//Kleingartenverein - ECPv6.15.20//NONSGML v1.0//EN
CALSCALE:GREGORIAN
METHOD:PUBLISH
X-ORIGINAL-URL:https://westhovener-aue.de
X-WR-CALDESC:Veranstaltungen für Kleingartenverein
REFRESH-INTERVAL;VALUE=DURATION:PT1H
X-Robots-Tag:noindex
X-PUBLISHED-TTL:PT1H
BEGIN:VTIMEZONE
TZID:UTC
BEGIN:STANDARD
TZOFFSETFROM:+0000
TZOFFSETTO:+0000
TZNAME:UTC
DTSTART:20250101T000000
END:STANDARD
END:VTIMEZONE
BEGIN:VEVENT
DTSTART;TZID=UTC:20260718T090000
DTEND;TZID=UTC:20260718T130000
DTSTAMP:20260425T230634
CREATED:20260301T145516Z
LAST-MODIFIED:20260301T145516Z
UID:656-1784365200-1784379600@westhovener-aue.de
SUMMARY:Gemeinschaftsarbeit Gruppe 7
DESCRIPTION:71\, 73\, 74\, 77\, 78\, 79\, 80\, 81\,82\, 98\, 179\, 181\, 183
URL:https://westhovener-aue.de/event/gemeinschaftsarbeit-gruppe-7-2
END:VEVENT
END:VCALENDAR