BEGIN:VCALENDAR
VERSION:2.0
PRODID:-//Kleingartenverein - ECPv6.15.20//NONSGML v1.0//EN
CALSCALE:GREGORIAN
METHOD:PUBLISH
X-WR-CALNAME:Kleingartenverein
X-ORIGINAL-URL:https://westhovener-aue.de
X-WR-CALDESC:Veranstaltungen für Kleingartenverein
REFRESH-INTERVAL;VALUE=DURATION:PT1H
X-Robots-Tag:noindex
X-PUBLISHED-TTL:PT1H
BEGIN:VTIMEZONE
TZID:UTC
BEGIN:STANDARD
TZOFFSETFROM:+0000
TZOFFSETTO:+0000
TZNAME:UTC
DTSTART:20250101T000000
END:STANDARD
END:VTIMEZONE
BEGIN:VEVENT
DTSTART;TZID=UTC:20260425T090000
DTEND;TZID=UTC:20260425T130000
DTSTAMP:20260425T162238
CREATED:20260301T145213Z
LAST-MODIFIED:20260301T145213Z
UID:650-1777107600-1777122000@westhovener-aue.de
SUMMARY:Gemeinschaftsarbeit Gruppe 4
DESCRIPTION:164\, 165\, 166\, 167\, 168\, 169\, 170\, 171\, 172\,173\,184
URL:https://westhovener-aue.de/event/gemeinschaftsarbeit-gruppe-4-2
END:VEVENT
END:VCALENDAR