BEGIN:VCALENDAR
VERSION:2.0
PRODID:-//Kleingartenverein - ECPv6.15.20//NONSGML v1.0//EN
CALSCALE:GREGORIAN
METHOD:PUBLISH
X-ORIGINAL-URL:https://westhovener-aue.de
X-WR-CALDESC:Veranstaltungen für Kleingartenverein
REFRESH-INTERVAL;VALUE=DURATION:PT1H
X-Robots-Tag:noindex
X-PUBLISHED-TTL:PT1H
BEGIN:VTIMEZONE
TZID:UTC
BEGIN:STANDARD
TZOFFSETFROM:+0000
TZOFFSETTO:+0000
TZNAME:UTC
DTSTART:20240101T000000
END:STANDARD
END:VTIMEZONE
BEGIN:VEVENT
DTSTART;TZID=UTC:20251025T090000
DTEND;TZID=UTC:20251025T130000
DTSTAMP:20260426T035119
CREATED:20250114T182022Z
LAST-MODIFIED:20250403T134805Z
UID:321-1761382800-1761397200@westhovener-aue.de
SUMMARY:Gemeinschaftsarbeit (Gruppe 9)
DESCRIPTION:99\, 100\, 101\, 102\, 103\, 128\, 168\, 169\, 182\, 75\, 76
URL:https://westhovener-aue.de/event/gemeinschaftsarbeit-gruppe-9
CATEGORIES:Gemeinschaftsarbeit
END:VEVENT
END:VCALENDAR